Workbook
Name TeamGrid: 'Competition Details'!$B$6:$E$22

Sheet Instructions
A1: Instructions
A3: 1 | B3: On Competition Details at the top Enter the Competition Name, Date and Time
A4: 2 | B4: On Competition Details - enter the Drawn Teams into the grid
A5: 3 | B5: Print Competition Details sheet to go on the board
A6: 4 | B6: Print Rota sheet to go on the board.
A7: 3 | B7: Go to Scorecards tab and print - scorecards for the day done, no manual writing needed
A8: 4 | B8: On the Scoresheet, skips names will automatically be entered
C9: Put Shots Scored in a game in the F column, put shots against in the A column
C10: Points will automatically calculate
A11: 5 | B11: Overall position still needs manually deciding, currently, but that might improve!

Sheet Drawsheet
A1: Names for Draw
A3: Draw No. | B3: Skip | C3: 3 | D3: 2 | E3: Lead
A4: 1 | B4: Nigel Long | D4: Kate Achler | E4: Michelle Fletcher
A5: 2 | B5: Ray Langdon | D5: Helen Wood | E5: Stuart Hamilton
A6: 3 | B6: Margaret Le Sueur | D6: Keith Chapman | E6: Lee Wilson
A7: 4 | B7: Tony Osmont | D7: Ken Corbin | E7: Jeff Ruellan
A8: 5 | B8: Denise Pallot | D8: Monica De Gruchy | E8: Dawn McGuinness
A9: 6 | B9: David De Gruchy | D9: Gill Blampied | E9: David Alan De Gruchy
A10: 7 | B10: Maurice Boreland | D10: Peter Blampied | E10: Sarah Haycock
A11: 8 | B11: Josh Band | E11: Claire Lidster
A12: 9 | B12: Derek Wood | D12: Gordon Peacock | E12: Richard Horsfall
A13: 10 | B13: John Bewhay | D13: James McKenna | E13: Steve Camm
A14: 11 | B14: Andy Achler | D14: Ellen McNally | E14: Darren Osmand
A15: 12 | B15: Russell Eyre | D15: Sylvia Howard | E15: James Pallot
A16: 13 | B16: Dave Robinson | E16: Mary Le Brocq
A17: 14 | B17: David Syvret | D17: Alan Booth | E17: Stephen McAllister
A18: 15
A19: 16

Sheet Competition Details
B1: Gordon Bewhay Trophy
B3: Date: 21 June 2026
B4: Time: 1.00pm
B6: Team No. | C6: Skip | D6: 2 | E6: Lead
B7: 1 | C7: Keith Chapman | D7: Peter Blampied | E7: Mary Le Brocq
B8: 2 | C8: John Bewhay | E8: Stephen McAllister
B9: 3 | C9: Margaret Le Sueur | D9: Alan Booth | E9: Jeff Ruellan
B10: 4 | C10: Tony Osmont | D10: Gill Blampied | E10: Steve Camm
B11: 5 | C11: Derek Wood | D11: Syvia Howard | E11: David Alan De Gruchy
B12: 6 | C12: David De Gruchy | D12: Helen Wood | E12: James Pallot
B13: 7 | C13: Maurice Boreland | D13: Gordon Peacock | E13: Dawn McGuinness
B14: 8 | C14: Josh Band | D14: Ellen McNally | E14: Stuart Hamilton
B15: 9 | C15: Denise Pallot | E15: Darren Osmand
B16: 10 | C16: Andy Achler | E16: Sarah Haycock
B17: 11 | C17: Ken Corbin | D17: Kate Achler | E17: Lee Wilson
B18: 12 | C18: Russell Eyre | D18: Ray Langdon | E18: Michelle Fletcher
B19: 13 | C19: Dave Robinson | E19: Richard Horsfall
B20: 14 | C20: David Syvret | D20: James McKenna | E20: Claire Lidster
B21: 15
B22: 16
B24: Cost of Entry is covered by the Tom Kidd Fund
B27: Games will be 8 ends in length. Burnt ends result in 3 shots being awarded to the opposing team!
B31: Most Importantly - please enjoy your bowling!

Sheet Scoresheets
A1: =CONCATENATE('Competition Details'!B1, " Scoresheet") -> Gordon Bewhay Trophy Scoresheet
C5: 1 | F5: 2 | I5: 3 | L5: 4 | O5: Overall
A8: Team No. | B8: Skips Name | C8: F | D8: A | E8: P | F8: F | G8: A | H8: P | I8: F | J8: A | K8: P | L8: F | M8: A | N8: P | O8: Points | P8: Diff | Q8: Position
B9: Derek Wood | C9: 9 | D9: 7 | E9: =IF(C9=D9,1,IF(C9>D9,2,0)) -> 2 | F9: 8 | G9: 3 | H9: =IF(F9=G9,1,IF(F9>G9,2,0)) -> 2 | I9: 10 | J9: 7 | K9: =IF(I9=J9,1,IF(I9>J9,2,0)) -> 2 | N9: 0 | O9: =K9+H9+E9+N9 -> 6 | P9: =(C9+F9+I9+L9)-(D9+G9+J9+M9) -> 10
B10: John Bewhay | C10: 10 | D10: 4 | E10: =IF(C10=D10,1,IF(C10>D10,2,0)) -> 2 | F10: 6 | G10: 5 | H10: =IF(F10=G10,1,IF(F10>G10,2,0)) -> 2 | I10: 7 | J10: 5 | K10: =IF(I10=J10,1,IF(I10>J10,2,0)) -> 2 | N10: 0 | O10: =K10+H10+E10+N10 -> 6 | P10: =(C10+F10+I10+L10)-(D10+G10+J10+M10) -> 9
B11: David Syvret | C11: 11 | D11: 7 | E11: =IF(C11=D11,1,IF(C11>D11,2,0)) -> 2 | F11: 9 | G11: 4 | H11: =IF(F11=G11,1,IF(F11>G11,2,0)) -> 2 | I11: 5 | J11: 10 | K11: =IF(I11=J11,1,IF(I11>J11,2,0)) -> 0 | N11: 0 | O11: =K11+H11+E11+N11 -> 4 | P11: =(C11+F11+I11+L11)-(D11+G11+J11+M11) -> 4
B12: Keith Chapman | C12: 3 | D12: 12 | E12: =IF(C12=D12,1,IF(C12>D12,2,0)) -> 0 | F12: 8 | G12: 6 | H12: =IF(F12=G12,1,IF(F12>G12,2,0)) -> 2 | I12: 10 | J12: 5 | K12: =IF(I12=J12,1,IF(I12>J12,2,0)) -> 2 | N12: 0 | O12: =K12+H12+E12+N12 -> 4 | P12: =(C12+F12+I12+L12)-(D12+G12+J12+M12) -> -2
B13: Josh Band | C13: 12 | D13: 3 | E13: =IF(C13=D13,1,IF(C13>D13,2,0)) -> 2 | F13: 4 | G13: 5 | H13: =IF(F13=G13,1,IF(F13>G13,2,0)) -> 0 | I13: 9 | J13: 9 | K13: =IF(I13=J13,1,IF(I13>J13,2,0)) -> 1 | N13: 0 | O13: =K13+H13+E13+N13 -> 3 | P13: =(C13+F13+I13+L13)-(D13+G13+J13+M13) -> 8
B14: Russell Eyre | C14: 7 | D14: 9 | E14: =IF(C14=D14,1,IF(C14>D14,2,0)) -> 0 | F14: 10 | G14: 4 | H14: =IF(F14=G14,1,IF(F14>G14,2,0)) -> 2 | I14: 6 | J14: 6 | K14: =IF(I14=J14,1,IF(I14>J14,2,0)) -> 1 | N14: 0 | O14: =K14+H14+E14+N14 -> 3 | P14: =(C14+F14+I14+L14)-(D14+G14+J14+M14) -> 4
B15: Andy Achler | C15: 6 | D15: 6 | E15: =IF(C15=D15,1,IF(C15>D15,2,0)) -> 1 | F15: 10 | G15: 7 | H15: =IF(F15=G15,1,IF(F15>G15,2,0)) -> 2 | I15: 5 | J15: 7 | K15: =IF(I15=J15,1,IF(I15>J15,2,0)) -> 0 | N15: 0 | O15: =K15+H15+E15+N15 -> 3 | P15: =(C15+F15+I15+L15)-(D15+G15+J15+M15) -> 1
B16: Maurice Boreland | C16: 4 | D16: 5 | E16: =IF(C16=D16,1,IF(C16>D16,2,0)) -> 0 | F16: 5 | G16: 4 | H16: =IF(F16=G16,1,IF(F16>G16,2,0)) -> 2 | I16: 6 | J16: 6 | K16: =IF(I16=J16,1,IF(I16>J16,2,0)) -> 1 | N16: 0 | O16: =K16+H16+E16+N16 -> 3 | P16: =(C16+F16+I16+L16)-(D16+G16+J16+M16) -> 0
B17: Ken Corbin | C17: 6 | D17: 5 | E17: =IF(C17=D17,1,IF(C17>D17,2,0)) -> 2 | F17: 6 | G17: 8 | H17: =IF(F17=G17,1,IF(F17>G17,2,0)) -> 0 | I17: 9 | J17: 9 | K17: =IF(I17=J17,1,IF(I17>J17,2,0)) -> 1 | N17: 0 | O17: =K17+H17+E17+N17 -> 3 | P17: =(C17+F17+I17+L17)-(D17+G17+J17+M17) -> -1
B18: Denise Pallot | C18: 4 | D18: 10 | E18: =IF(C18=D18,1,IF(C18>D18,2,0)) -> 0 | F18: 7 | G18: 10 | H18: =IF(F18=G18,1,IF(F18>G18,2,0)) -> 0 | I18: 11 | J18: 3 | K18: =IF(I18=J18,1,IF(I18>J18,2,0)) -> 2 | N18: 0 | O18: =K18+H18+E18+N18 -> 2 | P18: =(C18+F18+I18+L18)-(D18+G18+J18+M18) -> -1
B19: Margaret Le Sueur | C19: 7 | D19: 11 | E19: =IF(C19=D19,1,IF(C19>D19,2,0)) -> 0 | F19: 3 | G19: 8 | H19: =IF(F19=G19,1,IF(F19>G19,2,0)) -> 0 | I19: 11 | J19: 6 | K19: =IF(I19=J19,1,IF(I19>J19,2,0)) -> 2 | N19: 0 | O19: =K19+H19+E19+N19 -> 2 | P19: =(C19+F19+I19+L19)-(D19+G19+J19+M19) -> -4
B20: Tony Osmont | C20: 5 | D20: 4 | E20: =IF(C20=D20,1,IF(C20>D20,2,0)) -> 2 | F20: 4 | G20: 9 | H20: =IF(F20=G20,1,IF(F20>G20,2,0)) -> 0 | I20: 6 | J20: 11 | K20: =IF(I20=J20,1,IF(I20>J20,2,0)) -> 0 | N20: 0 | O20: =K20+H20+E20+N20 -> 2 | P20: =(C20+F20+I20+L20)-(D20+G20+J20+M20) -> -9
... B22: David De Gruchy | C22: 5 | D22: 6 | E22: =IF(C22=D22,1,IF(C22>D22,2,0)) -> 0 | F22: 4 | G22: 10 | H22: =IF(F22=G22,1,IF(F22>G22,2,0)) -> 0 | I22: 7 | J22: 10 | K22: =IF(I22=J22,1,IF(I22>J22,2,0)) -> 0 | N22: 0 | O22: =K22+H22+E22+N22 -> 0 | P22: =(C22+F22+I22+L22)-(D22+G22+J22+M22) -> -10
A24: 1st | B24: Derek Wood; Sylvia Howard; David Alan De Gruchy
A25: 2nd | B25: John Bewhay; Stephen McAllister

Sheet Rota
B1: =CONCATENATE('Competition Details'!B1, " Playing Schedule") -> Gordon Bewhay Trophy Playing Schedule
B4: ='Competition Details'!B4 -> Time: 1.00pm
B6: Session 1 | K6: A | L6: 1
K7: B | L7: 2
B8: Rink 1 | C8: Rink 2 | D8: Rink 3 | E8: Rink 4 | F8: Rink 5 | G8: Rink 6 | H8: Rink 7 | I8: Rink 8 | K8: C | L8: 3
B9: 1 v 8 | C9: 2 v 9 | D9: 3 v 14 | E9: 10 v 13 | F9: 5 v 12 | G9: 6 v 11 | H9: 7 v 4 | I9: 8 v 9 | K9: D | L9: 4
K10: E | L10: 5
B11: Session 2 | K11: F | L11: 6
K12: G | L12: 7
B13: Rink 1 | C13: Rink 2 | D13: Rink 3 | E13: Rink 4 | F13: Rink 5 | G13: Rink 6 | H13: Rink 7 | I13: Rink 8 | K13: H | L13: 8
B14: 13 v 2 | C14: 12 v 6 | D14: 11 v 1 | E14: 9 v 10 | F14: 14 v 4 | G14: 8 v 7 | H14: 3 v 5 | I14: 15 v 3 | K14: J | L14: 9
K16: K | L16: 10
B18: Session 3 | K18: L | L18: 11
K19: M | L19: 12
B20: Rink 1 | C20: Rink 2 | D20: Rink 3 | E20: Rink 4 | F20: Rink 5 | G20: Rink 6 | H20: Rink 7 | I20: Rink 8 | K20: N | L20: 13
B21: 9 v 13 | C21: 10 v 2 | D21: 1 v 14 | E21: 11 v 8 | F21: 7 v 12 | G21: 3 v 4 | H21: 5 v 6 | I21: 11 v 12 | K21: O | L21: 14
K22: P | L22: 15
B23: Session 4 | K23: Q | L23: 16
B25: Rink 1 | C25: Rink 2 | D25: Rink 3 | E25: Rink 4 | F25: Rink 5 | G25: Rink 6 | H25: Rink 7 | I25: 3
B26: 2 v 4 | C26: 5 v 7 | D26: 6 v 8 | E26: 10 v 3 | F26: 1 v 11 | G26: 9 v 14 | H26: 12 v 13 | I26: 14 v 1
B28: Please arrive at least 15 minutes before the first scheduled game.

Sheet ScoreCards
A1: ='Competition Details'!$B$3 -> Date: 21 June 2026 | E1: Session 1 | H1: ='Competition Details'!$B$3 -> Date: 21 June 2026 | L1: Session 1
B2: Rink: | C2: 1 | I2: Rink: | J2: 2
B3: Team: | C3: 1 | D3: v | E3: Team: | F3: 8 | I3: Team: | J3: 2 | K3: v | L3: Team: | M3: 9
B4: =VLOOKUP(C3,TeamGrid,2,FALSE) -> Keith Chapman | E4: =VLOOKUP(F3,TeamGrid,2,FALSE) -> Josh Band | I4: =VLOOKUP(J3,TeamGrid,2,FALSE) -> John Bewhay | L4: =VLOOKUP(M3,TeamGrid,2,FALSE) -> Denise Pallot
B6: Shots | C6: Total | E6: Shots | F6: Total | I6: Shots | J6: Total | L6: Shots | M6: Total
A7: 1 | H7: 1
A8: 2 | H8: 2
A9: 3 | H9: 3
A10: 4 | H10: 4
A11: 5 | H11: 5
A12: 6 | H12: 6
A13: 7 | H13: 7
A14: 8 | H14: 8
A15: 9 | H15: 9
A16: 10 | H16: 10
A17: 11 | H17: 11
A18: 12 | H18: 12
... A20: 14 | H20: 14
A24: ='Competition Details'!$B$3 -> Date: 21 June 2026 | E24: Session 1 | H24: ='Competition Details'!$B$3 -> Date: 21 June 2026 | L24: Session 1
B25: Rink: | C25: 3 | I25: Rink: | J25: 4
B26: Team: | C26: 3 | D26: v | E26: Team: | F26: 14 | I26: Team: | J26: 10 | K26: v | L26: Team: | M26: 13
B27: =VLOOKUP(C26,TeamGrid,2,FALSE) -> Margaret Le Sueur | E27: =VLOOKUP(F26,TeamGrid,2,FALSE) -> David Syvret | I27: =VLOOKUP(J26,TeamGrid,2,FALSE) -> Andy Achler | L27: =VLOOKUP(M26,TeamGrid,2,FALSE) -> Dave Robinson
B29: Shots | C29: Total | E29: Shots | F29: Total | I29: Shots | J29: Total | L29: Shots | M29: Total
A30: 1 | H30: 1
A31: 2 | H31: 2
A32: 3 | H32: 3
A33: 4 | H33: 4
A34: 5 | H34: 5
A35: 6 | H35: 6
A36: 7 | H36: 7
A37: 8 | H37: 8
A38: 9 | H38: 9
A39: 10 | H39: 10
A40: 11 | H40: 11
A41: 12 | H41: 12
... A43: 14 | H43: 14
A52: ='Competition Details'!$B$3 -> Date: 21 June 2026 | E52: Session 1 | H52: ='Competition Details'!$B$3 -> Date: 21 June 2026 | L52: Session 1
B53: Rink: | C53: 5 | I53: Rink: | J53: 6
B54: Team: | C54: 5 | D54: v | E54: Team: | F54: 12 | I54: Team: | J54: 6 | K54: v | L54: Team: | M54: 11
B55: =VLOOKUP(C54,TeamGrid,2,FALSE) -> Derek Wood | E55: =VLOOKUP(F54,TeamGrid,2,FALSE) -> Russell Eyre | I55: =VLOOKUP(J54,TeamGrid,2,FALSE) -> David De Gruchy | L55: =VLOOKUP(M54,TeamGrid,2,FALSE) -> Ken Corbin
B57: Shots | C57: Total | E57: Shots | F57: Total | I57: Shots | J57: Total | L57: Shots | M57: Total
A58: 1 | H58: 1
A59: 2 | H59: 2
A60: 3 | H60: 3
A61: 4 | H61: 4
A62: 5 | H62: 5
A63: 6 | H63: 6
A64: 7 | H64: 7
A65: 8 | H65: 8
A66: 9 | H66: 9
A67: 10 | H67: 10
A68: 11 | H68: 11
A69: 12 | H69: 12
... A71: 14 | H71: 14
A75: ='Competition Details'!$B$3 -> Date: 21 June 2026 | E75: Session 1 | H75: ='Competition Details'!$B$3 -> Date: 21 June 2026 | L75: Session 1
B76: Rink: | C76: 7 | I76: Rink: | J76: 8
B77: Team: | C77: 7 | D77: v | E77: Team: | F77: 4 | I77: Team: | K77: v | L77: Team:
B78: =VLOOKUP(C77,TeamGrid,2,FALSE) -> Maurice Boreland | E78: =VLOOKUP(F77,TeamGrid,2,FALSE) -> Tony Osmont | I78: =VLOOKUP(J77,TeamGrid,2,FALSE) -> #N/A | L78: =VLOOKUP(M77,TeamGrid,2,FALSE) -> #N/A
B80: Shots | C80: Total | E80: Shots | F80: Total | I80: Shots | J80: Total | L80: Shots | M80: Total
A81: 1 | H81: 1
A82: 2 | H82: 2
A83: 3 | H83: 3
A84: 4 | H84: 4
A85: 5 | H85: 5
A86: 6 | H86: 6
A87: 7 | H87: 7
A88: 8 | H88: 8
A89: 9 | H89: 9
A90: 10 | H90: 10
A91: 11 | H91: 11
A92: 12 | H92: 12
... A94: 14 | H94: 14
A102: ='Competition Details'!$B$3 -> Date: 21 June 2026 | E102: Session 2 | H102: ='Competition Details'!$B$3 -> Date: 21 June 2026 | L102: Session 2
B103: Rink: | C103: 1 | I103: Rink: | J103: 2
B104: Team: | C104: 13 | D104: v | E104: Team: | F104: 2 | I104: Team: | J104: 12 | K104: v | L104: Team: | M104: 6
B105: =VLOOKUP(C104,TeamGrid,2,FALSE) -> Dave Robinson | E105: =VLOOKUP(F104,TeamGrid,2,FALSE) -> John Bewhay | I105: =VLOOKUP(J104,TeamGrid,2,FALSE) -> Russell Eyre | L105: =VLOOKUP(M104,TeamGrid,2,FALSE) -> David De Gruchy
B107: Shots | C107: Total | E107: Shots | F107: Total | I107: Shots | J107: Total | L107: Shots | M107: Total
A108: 1 | H108: 1
A109: 2 | H109: 2
A110: 3 | H110: 3
A111: 4 | H111: 4
A112: 5 | H112: 5
A113: 6 | H113: 6
A114: 7 | H114: 7
A115: 8 | H115: 8
A116: 9 | H116: 9
A117: 10 | H117: 10
A118: 11 | H118: 11
A119: 12 | H119: 12
... A121: 14 | H121: 14
A125: ='Competition Details'!$B$3 -> Date: 21 June 2026 | E125: Session 2 | H125: ='Competition Details'!$B$3 -> Date: 21 June 2026 | L125: Session 2
B126: Rink: | C126: 3 | I126: Rink: | J126: 4
B127: Team: | C127: 11 | D127: v | E127: Team: | F127: 1 | I127: Team: | J127: 9 | K127: v | L127: Team: | M127: 10
B128: =VLOOKUP(C127,TeamGrid,2,FALSE) -> Ken Corbin | E128: =VLOOKUP(F127,TeamGrid,2,FALSE) -> Keith Chapman | I128: =VLOOKUP(J127,TeamGrid,2,FALSE) -> Denise Pallot | L128: =VLOOKUP(M127,TeamGrid,2,FALSE) -> Andy Achler
B130: Shots | C130: Total | E130: Shots | F130: Total | I130: Shots | J130: Total | L130: Shots | M130: Total
A131: 1 | H131: 1
A132: 2 | H132: 2
A133: 3 | H133: 3
A134: 4 | H134: 4
A135: 5 | H135: 5
...

Sheet Skips
C1: =CONCATENATE('Competition Details'!B1, " Scoresheet") -> Gordon Bewhay Trophy Scoresheet
C5: Game 1 | F5: Game 2 | I5: Game 3 | L5: Game 4 | O5: Overall
A8: Team No. | B8: Skips Name | C8: F | D8: A | E8: P | F8: F | G8: A | H8: P | I8: F | J8: A | K8: P | L8: F | M8: A | N8: P | O8: Points | P8: Diff | Q8: Position
B9: Terry Le Mottee | E9: =IF(C9=D9,1,IF(C9>D9,2,0)) -> 1 | H9: =IF(F9=G9,1,IF(F9>G9,2,0)) -> 1 | K9: =IF(I9=J9,1,IF(I9>J9,2,0)) -> 1 | N9: =IF(L9=M9,1,IF(L9>M9,2,0)) -> 1 | O9: =E9+H9+K9+N9 -> 4 | P9: =(C9+F9+I9+L9)-(D9+G9+J9+M9) -> 0
B10: Fay Le Mottee | E10: =IF(C10=D10,1,IF(C10>D10,2,0)) -> 1 | H10: =IF(F10=G10,1,IF(F10>G10,2,0)) -> 1 | K10: =IF(I10=J10,1,IF(I10>J10,2,0)) -> 1 | N10: =IF(L10=M10,1,IF(L10>M10,2,0)) -> 1 | O10: =E10+H10+K10+N10 -> 4 | P10: =(C10+F10+I10+L10)-(D10+G10+J10+M10) -> 0
B11: Bob Le Sueur | E11: =IF(C11=D11,1,IF(C11>D11,2,0)) -> 1 | H11: =IF(F11=G11,1,IF(F11>G11,2,0)) -> 1 | K11: =IF(I11=J11,1,IF(I11>J11,2,0)) -> 1 | N11: =IF(L11=M11,1,IF(L11>M11,2,0)) -> 1 | O11: =E11+H11+K11+N11 -> 4 | P11: =(C11+F11+I11+L11)-(D11+G11+J11+M11) -> 0
B12: Cathy Le Sueur | E12: =IF(C12=D12,1,IF(C12>D12,2,0)) -> 1 | H12: =IF(F12=G12,1,IF(F12>G12,2,0)) -> 1 | K12: =IF(I12=J12,1,IF(I12>J12,2,0)) -> 1 | N12: =IF(L12=M12,1,IF(L12>M12,2,0)) -> 1 | O12: =E12+H12+K12+N12 -> 4 | P12: =(C12+F12+I12+L12)-(D12+G12+J12+M12) -> 0
B13: Tony Osmont | E13: =IF(C13=D13,1,IF(C13>D13,2,0)) -> 1 | H13: =IF(F13=G13,1,IF(F13>G13,2,0)) -> 1 | K13: =IF(I13=J13,1,IF(I13>J13,2,0)) -> 1 | N13: =IF(L13=M13,1,IF(L13>M13,2,0)) -> 1 | O13: =E13+H13+K13+N13 -> 4 | P13: =(C13+F13+I13+L13)-(D13+G13+J13+M13) -> 0
B14: Ross Davis | E14: =IF(C14=D14,1,IF(C14>D14,2,0)) -> 1 | H14: =IF(F14=G14,1,IF(F14>G14,2,0)) -> 1 | K14: =IF(I14=J14,1,IF(I14>J14,2,0)) -> 1 | N14: =IF(L14=M14,1,IF(L14>M14,2,0)) -> 1 | O14: =E14+H14+K14+N14 -> 4 | P14: =(C14+F14+I14+L14)-(D14+G14+J14+M14) -> 0
B15: Andy Achler | E15: =IF(C15=D15,1,IF(C15>D15,2,0)) -> 1 | H15: =IF(F15=G15,1,IF(F15>G15,2,0)) -> 1 | K15: =IF(I15=J15,1,IF(I15>J15,2,0)) -> 1 | N15: =IF(L15=M15,1,IF(L15>M15,2,0)) -> 1 | O15: =E15+H15+K15+N15 -> 4 | P15: =(C15+F15+I15+L15)-(D15+G15+J15+M15) -> 0
B16: Maurice Andrieux | E16: =IF(C16=D16,1,IF(C16>D16,2,0)) -> 1 | H16: =IF(F16=G16,1,IF(F16>G16,2,0)) -> 1 | K16: =IF(I16=J16,1,IF(I16>J16,2,0)) -> 1 | N16: =IF(L16=M16,1,IF(L16>M16,2,0)) -> 1 | O16: =E16+H16+K16+N16 -> 4 | P16: =(C16+F16+I16+L16)-(D16+G16+J16+M16) -> 0
B17: Tim Knight | E17: =IF(C17=D17,1,IF(C17>D17,2,0)) -> 1 | H17: =IF(F17=G17,1,IF(F17>G17,2,0)) -> 1 | K17: =IF(I17=J17,1,IF(I17>J17,2,0)) -> 1 | N17: =IF(L17=M17,1,IF(L17>M17,2,0)) -> 1 | O17: =E17+H17+K17+N17 -> 4 | P17: =(C17+F17+I17+L17)-(D17+G17+J17+M17) -> 0
B18: Russell Eyre | E18: =IF(C18=D18,1,IF(C18>D18,2,0)) -> 1 | H18: =IF(F18=G18,1,IF(F18>G18,2,0)) -> 1 | K18: =IF(I18=J18,1,IF(I18>J18,2,0)) -> 1 | N18: =IF(L18=M18,1,IF(L18>M18,2,0)) -> 1 | O18: =E18+H18+K18+N18 -> 4 | P18: =(C18+F18+I18+L18)-(D18+G18+J18+M18) -> 0
B19: David De Gruchy | E19: =IF(C19=D19,1,IF(C19>D19,2,0)) -> 1 | H19: =IF(F19=G19,1,IF(F19>G19,2,0)) -> 1 | K19: =IF(I19=J19,1,IF(I19>J19,2,0)) -> 1 | N19: =IF(L19=M19,1,IF(L19>M19,2,0)) -> 1 | O19: =E19+H19+K19+N19 -> 4 | P19: =(C19+F19+I19+L19)-(D19+G19+J19+M19) -> 0
B20: Kevin Andrieux | E20: =IF(C20=D20,1,IF(C20>D20,2,0)) -> 1 | H20: =IF(F20=G20,1,IF(F20>G20,2,0)) -> 1 | K20: =IF(I20=J20,1,IF(I20>J20,2,0)) -> 1 | N20: =IF(L20=M20,1,IF(L20>M20,2,0)) -> 1 | O20: =E20+H20+K20+N20 -> 4 | P20: =(C20+F20+I20+L20)-(D20+G20+J20+M20) -> 0
... B22: Margaret Le Sueur | E22: =IF(C22=D22,1,IF(C22>D22,2,0)) -> 1 | H22: =IF(F22=G22,1,IF(F22>G22,2,0)) -> 1 | K22: =IF(I22=J22,1,IF(I22>J22,2,0)) -> 1 | N22: =IF(L22=M22,1,IF(L22>M22,2,0)) -> 1 | O22: =E22+H22+K22+N22 -> 4 | P22: =(C22+F22+I22+L22)-(D22+G22+J22+M22) -> 0
E23: =IF(C23=D23,1,IF(C23>D23,2,0)) -> 1 | H23: =IF(F23=G23,1,IF(F23>G23,2,0)) -> 1 | K23: =IF(I23=J23,1,IF(I23>J23,2,0)) -> 1 | N23: =IF(L23=M23,1,IF(L23>M23,2,0)) -> 1 | O23: =E23+H23+K23+N23 -> 4 | P23: =(C23+F23+I23+L23)-(D23+G23+J23+M23) -> 0
E24: =IF(C24=D24,1,IF(C24>D24,2,0)) -> 1 | H24: =IF(F24=G24,1,IF(F24>G24,2,0)) -> 1 | K24: =IF(I24=J24,1,IF(I24>J24,2,0)) -> 1 | N24: =IF(L24=M24,1,IF(L24>M24,2,0)) -> 1 | O24: =E24+H24+K24+N24 -> 4 | P24: =(C24+F24+I24+L24)-(D24+G24+J24+M24) -> 0
B26: Checks | C26: =(SUM(C9:C24)-SUM(D9:D24)) -> 0 | F26: =(SUM(F9:F24)-SUM(G9:G24)) -> 0 | I26: =(SUM(I9:I24)-SUM(J9:J24)) -> 0 | L26: =(SUM(L9:L24)-SUM(M9:M24)) -> 0
A28: Winners

Sheet 2s
C1: =CONCATENATE('Competition Details'!B1, " Scoresheet") -> Gordon Bewhay Trophy Scoresheet
C5: Game 1 | F5: Game 2 | I5: Game 3 | L5: Game 4 | O5: Overall
A8: Team No. | B8: Skips Name | C8: F | D8: A | E8: P | F8: F | G8: A | H8: P | I8: F | J8: A | K8: P | L8: F | M8: A | N8: P | O8: Points | P8: Diff | Q8: Position
B9: Jim Larkin | E9: =IF(C9=D9,1,IF(C9>D9,2,0)) -> 1 | H9: =IF(F9=G9,1,IF(F9>G9,2,0)) -> 1 | K9: =IF(I9=J9,1,IF(I9>J9,2,0)) -> 1 | N9: =IF(L9=M9,1,IF(L9>M9,2,0)) -> 1 | O9: =E9+H9+K9+N9 -> 4 | P9: =(C9+F9+I9+L9)-(D9+G9+J9+M9) -> 0
B10: Margaret Le Marquand / Tom Hunt | E10: =IF(C10=D10,1,IF(C10>D10,2,0)) -> 1 | H10: =IF(F10=G10,1,IF(F10>G10,2,0)) -> 1 | K10: =IF(I10=J10,1,IF(I10>J10,2,0)) -> 1 | N10: =IF(L10=M10,1,IF(L10>M10,2,0)) -> 1 | O10: =E10+H10+K10+N10 -> 4 | P10: =(C10+F10+I10+L10)-(D10+G10+J10+M10) -> 0
B11: Denise Pallot | E11: =IF(C11=D11,1,IF(C11>D11,2,0)) -> 1 | H11: =IF(F11=G11,1,IF(F11>G11,2,0)) -> 1 | K11: =IF(I11=J11,1,IF(I11>J11,2,0)) -> 1 | N11: =IF(L11=M11,1,IF(L11>M11,2,0)) -> 1 | O11: =E11+H11+K11+N11 -> 4 | P11: =(C11+F11+I11+L11)-(D11+G11+J11+M11) -> 0
B12: Maureen Poree | E12: =IF(C12=D12,1,IF(C12>D12,2,0)) -> 1 | H12: =IF(F12=G12,1,IF(F12>G12,2,0)) -> 1 | K12: =IF(I12=J12,1,IF(I12>J12,2,0)) -> 1 | N12: =IF(L12=M12,1,IF(L12>M12,2,0)) -> 1 | O12: =E12+H12+K12+N12 -> 4 | P12: =(C12+F12+I12+L12)-(D12+G12+J12+M12) -> 0
B13: Abbey Andrieux | E13: =IF(C13=D13,1,IF(C13>D13,2,0)) -> 1 | H13: =IF(F13=G13,1,IF(F13>G13,2,0)) -> 1 | K13: =IF(I13=J13,1,IF(I13>J13,2,0)) -> 1 | N13: =IF(L13=M13,1,IF(L13>M13,2,0)) -> 1 | O13: =E13+H13+K13+N13 -> 4 | P13: =(C13+F13+I13+L13)-(D13+G13+J13+M13) -> 0
B14: Ann Hunt | E14: =IF(C14=D14,1,IF(C14>D14,2,0)) -> 1 | H14: =IF(F14=G14,1,IF(F14>G14,2,0)) -> 1 | K14: =IF(I14=J14,1,IF(I14>J14,2,0)) -> 1 | N14: =IF(L14=M14,1,IF(L14>M14,2,0)) -> 1 | O14: =E14+H14+K14+N14 -> 4 | P14: =(C14+F14+I14+L14)-(D14+G14+J14+M14) -> 0
B15: Tony Morton | E15: =IF(C15=D15,1,IF(C15>D15,2,0)) -> 1 | H15: =IF(F15=G15,1,IF(F15>G15,2,0)) -> 1 | K15: =IF(I15=J15,1,IF(I15>J15,2,0)) -> 1 | N15: =IF(L15=M15,1,IF(L15>M15,2,0)) -> 1 | O15: =E15+H15+K15+N15 -> 4 | P15: =(C15+F15+I15+L15)-(D15+G15+J15+M15) -> 0
B16: Peter Davis | E16: =IF(C16=D16,1,IF(C16>D16,2,0)) -> 1 | H16: =IF(F16=G16,1,IF(F16>G16,2,0)) -> 1 | K16: =IF(I16=J16,1,IF(I16>J16,2,0)) -> 1 | N16: =IF(L16=M16,1,IF(L16>M16,2,0)) -> 1 | O16: =E16+H16+K16+N16 -> 4 | P16: =(C16+F16+I16+L16)-(D16+G16+J16+M16) -> 0
B17: Margaret Andrieux | E17: =IF(C17=D17,1,IF(C17>D17,2,0)) -> 1 | H17: =IF(F17=G17,1,IF(F17>G17,2,0)) -> 1 | K17: =IF(I17=J17,1,IF(I17>J17,2,0)) -> 1 | N17: =IF(L17=M17,1,IF(L17>M17,2,0)) -> 1 | O17: =E17+H17+K17+N17 -> 4 | P17: =(C17+F17+I17+L17)-(D17+G17+J17+M17) -> 0
B18: Doreen Barette | E18: =IF(C18=D18,1,IF(C18>D18,2,0)) -> 1 | H18: =IF(F18=G18,1,IF(F18>G18,2,0)) -> 1 | K18: =IF(I18=J18,1,IF(I18>J18,2,0)) -> 1 | N18: =IF(L18=M18,1,IF(L18>M18,2,0)) -> 1 | O18: =E18+H18+K18+N18 -> 4 | P18: =(C18+F18+I18+L18)-(D18+G18+J18+M18) -> 0
B19: Sheila Baudains | E19: =IF(C19=D19,1,IF(C19>D19,2,0)) -> 1 | H19: =IF(F19=G19,1,IF(F19>G19,2,0)) -> 1 | K19: =IF(I19=J19,1,IF(I19>J19,2,0)) -> 1 | N19: =IF(L19=M19,1,IF(L19>M19,2,0)) -> 1 | O19: =E19+H19+K19+N19 -> 4 | P19: =(C19+F19+I19+L19)-(D19+G19+J19+M19) -> 0
B20: John Bewhay | E20: =IF(C20=D20,1,IF(C20>D20,2,0)) -> 1 | H20: =IF(F20=G20,1,IF(F20>G20,2,0)) -> 1 | K20: =IF(I20=J20,1,IF(I20>J20,2,0)) -> 1 | N20: =IF(L20=M20,1,IF(L20>M20,2,0)) -> 1 | O20: =E20+H20+K20+N20 -> 4 | P20: =(C20+F20+I20+L20)-(D20+G20+J20+M20) -> 0
... B22: Monica De Gruchy | E22: =IF(C22=D22,1,IF(C22>D22,2,0)) -> 1 | H22: =IF(F22=G22,1,IF(F22>G22,2,0)) -> 1 | K22: =IF(I22=J22,1,IF(I22>J22,2,0)) -> 1 | N22: =IF(L22=M22,1,IF(L22>M22,2,0)) -> 1 | O22: =E22+H22+K22+N22 -> 4 | P22: =(C22+F22+I22+L22)-(D22+G22+J22+M22) -> 0
E23: =IF(C23=D23,1,IF(C23>D23,2,0)) -> 1 | H23: =IF(F23=G23,1,IF(F23>G23,2,0)) -> 1 | K23: =IF(I23=J23,1,IF(I23>J23,2,0)) -> 1 | N23: =IF(L23=M23,1,IF(L23>M23,2,0)) -> 1 | O23: =E23+H23+K23+N23 -> 4 | P23: =(C23+F23+I23+L23)-(D23+G23+J23+M23) -> 0
E24: =IF(C24=D24,1,IF(C24>D24,2,0)) -> 1 | H24: =IF(F24=G24,1,IF(F24>G24,2,0)) -> 1 | K24: =IF(I24=J24,1,IF(I24>J24,2,0)) -> 1 | N24: =IF(L24=M24,1,IF(L24>M24,2,0)) -> 1 | O24: =E24+H24+K24+N24 -> 4 | P24: =(C24+F24+I24+L24)-(D24+G24+J24+M24) -> 0
B26: Checks | C26: =(SUM(C9:C24)-SUM(D9:D24)) -> 0 | F26: =(SUM(F9:F24)-SUM(G9:G24)) -> 0 | I26: =(SUM(I9:I24)-SUM(J9:J24)) -> 0 | L26: =(SUM(L9:L24)-SUM(M9:M24)) -> 0
A28: Winners

Sheet Leads
C1: =CONCATENATE('Competition Details'!B1, " Scoresheet") -> Gordon Bewhay Trophy Scoresheet
C5: Game 1 | F5: Game 2 | I5: Game 3 | L5: Game 4 | O5: Overall
A8: Team No. | B8: Skips Name | C8: F | D8: A | E8: P | F8: F | G8: A | H8: P | I8: F | J8: A | K8: P | L8: F | M8: A | N8: P | O8: Points | P8: Diff | Q8: Position
B9: Anne Moon | E9: =IF(C9=D9,1,IF(C9>D9,2,0)) -> 1 | H9: =IF(F9=G9,1,IF(F9>G9,2,0)) -> 1 | K9: =IF(I9=J9,1,IF(I9>J9,2,0)) -> 1 | N9: =IF(L9=M9,1,IF(L9>M9,2,0)) -> 1 | P9: =(C9+F9+I9+L9)-(D9+G9+J9+M9) -> 0
B10: Helen Wood | E10: =IF(C10=D10,1,IF(C10>D10,2,0)) -> 1 | H10: =IF(F10=G10,1,IF(F10>G10,2,0)) -> 1 | K10: =IF(I10=J10,1,IF(I10>J10,2,0)) -> 1 | N10: =IF(L10=M10,1,IF(L10>M10,2,0)) -> 1 | P10: =(C10+F10+I10+L10)-(D10+G10+J10+M10) -> 0
B11: Kate Achler | E11: =IF(C11=D11,1,IF(C11>D11,2,0)) -> 1 | H11: =IF(F11=G11,1,IF(F11>G11,2,0)) -> 1 | K11: =IF(I11=J11,1,IF(I11>J11,2,0)) -> 1 | N11: =IF(L11=M11,1,IF(L11>M11,2,0)) -> 1 | P11: =(C11+F11+I11+L11)-(D11+G11+J11+M11) -> 0
B12: Moira Larkin | E12: =IF(C12=D12,1,IF(C12>D12,2,0)) -> 1 | H12: =IF(F12=G12,1,IF(F12>G12,2,0)) -> 1 | K12: =IF(I12=J12,1,IF(I12>J12,2,0)) -> 1 | N12: =IF(L12=M12,1,IF(L12>M12,2,0)) -> 1 | P12: =(C12+F12+I12+L12)-(D12+G12+J12+M12) -> 0
B13: Ellen McNally | E13: =IF(C13=D13,1,IF(C13>D13,2,0)) -> 1 | H13: =IF(F13=G13,1,IF(F13>G13,2,0)) -> 1 | K13: =IF(I13=J13,1,IF(I13>J13,2,0)) -> 1 | N13: =IF(L13=M13,1,IF(L13>M13,2,0)) -> 1 | P13: =(C13+F13+I13+L13)-(D13+G13+J13+M13) -> 0
B14: George Reid | E14: =IF(C14=D14,1,IF(C14>D14,2,0)) -> 1 | H14: =IF(F14=G14,1,IF(F14>G14,2,0)) -> 1 | K14: =IF(I14=J14,1,IF(I14>J14,2,0)) -> 1 | N14: =IF(L14=M14,1,IF(L14>M14,2,0)) -> 1 | P14: =(C14+F14+I14+L14)-(D14+G14+J14+M14) -> 0
B15: Alan Booth | E15: =IF(C15=D15,1,IF(C15>D15,2,0)) -> 1 | H15: =IF(F15=G15,1,IF(F15>G15,2,0)) -> 1 | K15: =IF(I15=J15,1,IF(I15>J15,2,0)) -> 1 | N15: =IF(L15=M15,1,IF(L15>M15,2,0)) -> 1 | P15: =(C15+F15+I15+L15)-(D15+G15+J15+M15) -> 0
B16: Terri Boss-Andrieux | E16: =IF(C16=D16,1,IF(C16>D16,2,0)) -> 1 | H16: =IF(F16=G16,1,IF(F16>G16,2,0)) -> 1 | K16: =IF(I16=J16,1,IF(I16>J16,2,0)) -> 1 | N16: =IF(L16=M16,1,IF(L16>M16,2,0)) -> 1 | P16: =(C16+F16+I16+L16)-(D16+G16+J16+M16) -> 0
B17: Maureen Long | E17: =IF(C17=D17,1,IF(C17>D17,2,0)) -> 1 | H17: =IF(F17=G17,1,IF(F17>G17,2,0)) -> 1 | K17: =IF(I17=J17,1,IF(I17>J17,2,0)) -> 1 | N17: =IF(L17=M17,1,IF(L17>M17,2,0)) -> 1 | P17: =(C17+F17+I17+L17)-(D17+G17+J17+M17) -> 0
B18: John Luce | E18: =IF(C18=D18,1,IF(C18>D18,2,0)) -> 1 | H18: =IF(F18=G18,1,IF(F18>G18,2,0)) -> 1 | K18: =IF(I18=J18,1,IF(I18>J18,2,0)) -> 1 | N18: =IF(L18=M18,1,IF(L18>M18,2,0)) -> 1 | P18: =(C18+F18+I18+L18)-(D18+G18+J18+M18) -> 0
B19: Phil Le Quesne | E19: =IF(C19=D19,1,IF(C19>D19,2,0)) -> 1 | H19: =IF(F19=G19,1,IF(F19>G19,2,0)) -> 1 | K19: =IF(I19=J19,1,IF(I19>J19,2,0)) -> 1 | N19: =IF(L19=M19,1,IF(L19>M19,2,0)) -> 1 | P19: =(C19+F19+I19+L19)-(D19+G19+J19+M19) -> 0
B20: David Syvret | E20: =IF(C20=D20,1,IF(C20>D20,2,0)) -> 1 | H20: =IF(F20=G20,1,IF(F20>G20,2,0)) -> 1 | K20: =IF(I20=J20,1,IF(I20>J20,2,0)) -> 1 | N20: =IF(L20=M20,1,IF(L20>M20,2,0)) -> 1 | P20: =(C20+F20+I20+L20)-(D20+G20+J20+M20) -> 0
E21: =IF(C21=D21,1,IF(C21>D21,2,0)) -> 1 | H21: =IF(F21=G21,1,IF(F21>G21,2,0)) -> 1 | K21: =IF(I21=J21,1,IF(I21>J21,2,0)) -> 1 | N21: =IF(L21=M21,1,IF(L21>M21,2,0)) -> 1 | P21: =(C21+F21+I21+L21)-(D21+G21+J21+M21) -> 0
E22: =IF(C22=D22,1,IF(C22>D22,2,0)) -> 1 | H22: =IF(F22=G22,1,IF(F22>G22,2,0)) -> 1 | K22: =IF(I22=J22,1,IF(I22>J22,2,0)) -> 1 | N22: =IF(L22=M22,1,IF(L22>M22,2,0)) -> 1 | P22: =(C22+F22+I22+L22)-(D22+G22+J22+M22) -> 0
E23: =IF(C23=D23,1,IF(C23>D23,2,0)) -> 1 | H23: =IF(F23=G23,1,IF(F23>G23,2,0)) -> 1 | K23: =IF(I23=J23,1,IF(I23>J23,2,0)) -> 1 | N23: =IF(L23=M23,1,IF(L23>M23,2,0)) -> 1 | P23: =(C23+F23+I23+L23)-(D23+G23+J23+M23) -> 0
E24: =IF(C24=D24,1,IF(C24>D24,2,0)) -> 1 | H24: =IF(F24=G24,1,IF(F24>G24,2,0)) -> 1 | K24: =IF(I24=J24,1,IF(I24>J24,2,0)) -> 1 | N24: =IF(L24=M24,1,IF(L24>M24,2,0)) -> 1 | P24: =(C24+F24+I24+L24)-(D24+G24+J24+M24) -> 0
B26: Checks | C26: =(SUM(C9:C24)-SUM(D9:D24)) -> 0 | F26: =(SUM(F9:F24)-SUM(G9:G24)) -> 0 | I26: =(SUM(I9:I24)-SUM(J9:J24)) -> 0 | L26: =(SUM(L9:L24)-SUM(M9:M24)) -> 0
A28: Winners
